Workbook

Sheet ინვოისი
L1: =M3 -> 2.9934
N2: ინვოისის მიმღები | Y2: ინვოისი
L3: #VALUE! | M3: =Currency!B2 -> 2.9934
M4: შ.პ.ს.
M5: ს/კ: | Y5: ინვოისის N: | AC5: =Currency!H13 -> 64/266
M6: წარმ: | Y6: გაცე. თარიღი: | AC6: =TODAY() -> 45721
A7: შ.პ.ს. "ქართული ცოცვის განვითარება" | M7: ტელ: | Y7: მოქმედ. ვადა: | AC7: =TODAY()+14 -> 45735
L8: ელ ფოსტა:
C10: N | E10: აირჩიე საცოცი კედელი | O10: ზომები | V10: ფასი | Y10: რაოდ. | AB10: ჯამი
E11: შენობაში | H11: 1 | I11: შენობაზე | M11: გარე
C12: 1 | F12: სიმაღლე | J12: =IFERROR(IF(P12>1,CONCATENATE("(",ROUNDUP(P12/100,1),"მ)"),""),0) | N12: =IFERROR(IF(H11=1,150,IF(H11=2,150*1.5,IF(H11=3,150*2,))),"") -> 150 | P12: =IFERROR(IF(E10="სწრაფი ცოცვის კედელი",1670,IF(E10="ბოლდერინგი",490,IF(E10="რთული ცოცვის კედელი",1500,IF(E10="გასართობი კედელი",750,0)))),0) -> 0 | S12: სმ
E13: საცოცი კედლის მაქსიმალური სიმაღლე | O13: =P12/100 -> 0
C14: 2 | F14: სიგანე | J14: =IF(P14>1,CONCATENATE("(",ROUNDUP(P14/100,1),"მ)"),"") | N14: =O14/100 -> 0 | P14: =IFERROR(IF(E10="სწრაფი ცოცვის კედელი",600,IF(E10="ბოლდერინგი",1500,IF(E10="რთული ცოცვის კედელი",600,IF(E10="გასართობი კედელი",150,0)))),0) -> 0 | S14: სმ | U14: =AB14-AB14*AA51% -> 0 | V14: =IFERROR(IF(AA51>0,ROUNDUP((Currency!B6/1.18)-((Currency!B6/1.18)*AA51/100),0),ROUNDUP(Currency!B6/1.18,0)),ROUNDUP(Currency!B6/1.18,0)) -> 382 | X14: ₾ | Y14: =ROUNDUP(O13*O15,0) -> 0 | AA14: მ² | AB14: =V14*Y14 -> 0 | AE14: ₾
E15: საცოცი კედლის მაქსიმალური სიგანე | O15: =P14/100 -> 0
C16: 3 | F16: დახრა | I16: =IFERROR(IF(AND(E10="სწრაფი ცოცვის კედელი",P16>1),CONCATENATE("(",ROUNDUP(RADIANS(P16)*(P12)/(100),2),"მ)"),IF(AND(E10="ბოლდერინგი",P16>1),CONCATENATE("(",ROUNDUP(P16/100,1),"მ)"),IF(AND(E10="რთული ცოცვის კედელი",P16>1),CONCATENATE("(",ROUNDUP(P16/100,1),"მ)"),IF(AND(E10="გასართობი კედელი",P16>1),CONCATENATE("(",ROUNDUP(P16/100,1),"მ)"),"")))),"") | K16: =IFERROR(IF(AND(E10="სწრაფი ცოცვის კედელი",P16),CONCATENATE("(",ROUNDUP(P16,2),"⁰)"),IF(AND(E10="ბოლდერინგი",P16>1),CONCATENATE("(",ROUNDUP(DEGREES(ATAN(P16/P12)),1),"⁰)"),IF(AND(E10="რთული ცოცვის კედელი",P16>1),CONCATENATE("(",ROUNDUP(DEGREES(ATAN(P16/P12)),1),"⁰)"),IF(AND(E10="გასართობი კედელი",P16>1),CONCATENATE("(",ROUNDUP(DEGREES(ATAN(P16/P12)),1),"⁰)"),"")))),"") | N16: =O16/100 -> 0 | O16: =ROUNDUP(IF(S16="⁰",(SQRT((O13*O13+O17*O17))*O15),IF(P16>1,(SQRT((O13*O13+O17*O17))*(O15)+(((O13)*(O15))*10/100)),(O13*O15))),0) -> 0 | P16: =IFERROR(IF(E10="სწრაფი ცოცვის კედელი",5,IF(E10="ბოლდერინგი",250,IF(E10="რთული ცოცვის კედელი",400,IF(E10="გასართობი კედელი",0,0)))),0) -> 0 | S16: =IFERROR(IF(E10="სწრაფი ცოცვის კედელი","⁰","სმ"),"") -> სმ
E17: საცოცი კედლის მაქსიმალური დახრა | O17: =IFERROR(ROUNDUP(IF(E10="სწრაფი ცოცვის კედელი",RADIANS(P16)*(P12-20)/100+1,P16/100+1),2),"") -> 1
C18: N | F18: უსაფრთხოების ლეიბი | O18: ზომები | V18: ფასი | Y18: რაოდ. | AB18: ჯამი
C20: 1 | F20: სიმაღლე | N20: =O20/100 -> 0 | O20: =IF(P14<=0,0,IF(P12>490,0,IF(P12>350,40,IF(P12>250,30,IF(P12>150,20,IF(P12>0,10,0)))))) -> 0 | S20: სმ
E21: ლეიბის მაქსიმალური სიმაღლე
C22: 2 | F22: სიგანე | N22: =O22/100 -> 0 | O22: =IF(P12>490,0,P14) -> 0 | S22: სმ | T22: =(IF(O20=0,0,(N22+2)*(N24+2)*10*L1)+((N20*N22*N24*28*10*L1)-(((N22+2)*(N24+2)*10*L1)+((N20*N22*N24*28*10*L1)))*0/100)) -> 0 | U22: =AB22-AB22*AA51% -> 0 | V22: =IFERROR(ROUNDUP(IF(AA51>1,((T22/Y22*((H11+9)/10))/1.18)-(((T22/Y22*((H11+9)/10))/1.18)*AA51/100),(T22/Y22*((H11+9)/10))/1.18),0),0) -> 0 | X22: ₾ | Y22: =ROUNDUP(N20*N22*N24,0) -> 0 | AA22: მ³ | AB22: =V22*Y22 -> 0 | AE22: ₾
E23: ლეიბის მაქსიმალური სიგანე
C24: 3 | F24: სიღრმე | N24: =O24/100 -> 0 | O24: =IF(P12>490,0,IF(P12>=350,P16+200,IF(P12>=250,P16+200,IF(P12>=20,P16+150,IF(P12<=0,0,IF(P12>=200,P16+150,IF(P12>=100,P16+120))))))) -> 0 | S24: სმ
E25: ლეიბის მაქსიმალური სიღმე
C26: N | F26: აღჭურვილობა | V26: ფასი | Y26: რაოდ. | AB26: ჯამი
C28: 1 | F28: საჭიდები | U28: =AB28-AB28*AA51% -> 0 | V28: {=IFERROR(VLOOKUP(E29,TRANSPOSE(List!B10:V11),2,0),0)} -> 0 | X28: ₾ | Y28: =IFERROR(IF(AND(E10>="სწრაფი ცოცვის კედელი", P12>490,P14>=300),ROUNDUP(P14/300,0),IF(AND(E10="რთული ცოცვის კედელი",P12>490),ROUNDUP(Y14*3,0),IF(AND(E10="ბოლდერინგი",P12<=490),ROUNDUP(Y14*3,0),IF(AND(E10="გასართობი კედელი",P12>490),ROUNDUP(Y14*3,0),0)))),0) -> 0 | AA28: ც | AB28: =V28*Y28 -> 0 | AE28: ₾
E29: =IFERROR(IF(AND(E10="სწრაფი ცოცვის კედელი",P12<=1220,P12>490),"Volx SPEED 10.5",IF(AND(E10="სწრაფი ცოცვის კედელი",P12>=1500),"Volx SPEED 15",IF(AND(E10="რთული ცოცვის კედელი",P12>490),"Volx",IF(AND(E10="ბოლდერინგი",P12>1,P12<=490),"Volx",IF(AND(E10="გასართობი კედელი",P12>490),"Volx","აირჩიეთ მწარმოებელი"))))),"აირჩიეთ მწარმოებელი") -> აირჩიეთ მწარმოებელი
C30: 2 | F30: რელიეფები | U30: =AB30-AB30*AA51% -> 0 | V30: {=IFERROR(VLOOKUP(E31,TRANSPOSE(List!B14:V15),2,0),0)} -> 0 | X30: ₾ | Y30: =IFERROR(IF(AND(E10="ბოლდერინგი",P12<=490),ROUNDUP(Y14/2,0),IF(AND(E10="რთული ცოცვის კედელი",P12>490),ROUNDUP(Y14/4,0),0)),0) -> 0 | AA30: ც | AB30: =V30*Y30 -> 0 | AE30: ₾
E31: =IFERROR(IF(AND(E10="რთული ცოცვის კედელი",Y14>10,P12>490),"Volx",IF(AND(E10="ბოლდერინგი",Y14>10,P12>150,P12<=490),"Volx","აირჩიეთ მწარმოებელი")),"აირჩიეთ მწარმოებელი") -> აირჩიეთ მწარმოებელი
C32: 3 | F32: თოკი | U32: =AB32-AB32*AA51% -> 0 | V32: {=IFERROR(VLOOKUP(E33,TRANSPOSE(List!B18:V19),2,0),0)} -> 0 | X32: ₾ | Y32: =IFERROR(ROUNDUP(IF(AND(Y42>=1,E10="რთული ცოცვის კედელი"),SQRT((O13*O13+O17*O17))*2.2*Y42,0),0),0) -> 0 | AA32: მ | AB32: =V32*Y32 -> 0 | AE32: ₾
E33: =IFERROR(IF(AND(E10="რთული ცოცვის კედელი",P12>490),"TENDON","აირჩიეთ მწარმოებელი"),"აირჩიეთ მწარმოებელი") -> აირჩიეთ მწარმოებელი
C34: 4 | F34: ქამარი | U34: =AB34-AB34*AA51% -> 0 | V34: {=IFERROR(VLOOKUP(E35,TRANSPOSE(List!B22:V23),2,0),0)} -> 0 | X34: ₾ | Y34: =IFERROR(IF(AND(E10="სწრაფი ცოცვის კედელი",P14>299),ROUNDDOWN(P14/300,0),IF(AND(E10="რთული ცოცვის კედელი",P12>490),ROUNDDOWN(P14/150,0),IF(AND(E10="გასართობი კედელი",P12>490),ROUNDDOWN(P14/120,0),0))),0) -> 0 | AA34: ც | AB34: =V34*Y34 -> 0 | AE34: ₾
E35: =IFERROR(IF(AND(E10="სწრაფი ცოცვის კედელი",P12>490),"TENDON",IF(AND(E10="რთული ცოცვის კედელი",P12>490),"TENDON",IF(AND(E10="გასართობი კედელი",P12>490),"TENDON","აირჩიეთ მწარმოებელი"))),"აირჩიეთ მწარმოებელი") -> აირჩიეთ მწარმოებელი
C36: 5 | F36: კარაბინი | U36: =AB36-AB36*AA51% -> 0 | V36: {=IFERROR(VLOOKUP(E37,TRANSPOSE(List!B26:V27),2,0),0)} -> 0 | X36: ₾ | Y36: =IFERROR(IF(E10="სწრაფი ცოცვის კედელი",0,IF(AND(E10="რთული ცოცვის კედელი",P12>490,P16>170),Y34+Y42*2,IF(AND(E10="გასართობი კედელი",P12>490,P16>170),Y34+Y42*2,"0"))),"0") -> 0 | AA36: ც | AB36: =V36*Y36 -> 0 | AE36: ₾
E37: =IFERROR(IF(E10="სწრაფი ცოცვის კედელი","აირჩიეთ მწარმოებელი",IF(AND(E10="რთული ცოცვის კედელი",P12>490,P16>170),"PETZL",IF(AND(E10="გასართობი კედელი",P12>490,P16>170),"PETZL","აირჩიეთ მწარმოებელი"))),"აირჩიეთ მწარმოებელი") -> აირჩიეთ მწარმოებელი
C38: 6 | F38: დამშვები მექანიზმი | U38: =AB38-AB38*AA51% -> 0 | V38: {=IFERROR(VLOOKUP(E39,TRANSPOSE(List!B30:V31),2,0),0)} -> 0 | X38: ₾ | Y38: =IFERROR(IF(AND(E10="რთული ცოცვის კედელი",E39="PETZL"),Y42,0),0) -> 0 | AA38: ც | AB38: =V38*Y38 -> 0 | AE38: ₾
E39: =IFERROR(IF(AND(E10="რთული ცოცვის კედელი",P12>490),"PETZL","აირჩიეთ მწარმოებელი"),"აირჩიეთ მწარმოებელი") -> აირჩიეთ მწარმოებელი
C40: 7 | F40: ავტომატური დამშვები | U40: =AB40-AB40*AA51% -> 0 | V40: {=IFERROR(VLOOKUP(E41,TRANSPOSE(List!B34:V35),2,0),0)} -> 0 | X40: ₾ | Y40: =IFERROR(IF(AND(E10="სწრაფი ცოცვის კედელი",E41="perfect Descent"),ROUNDDOWN(P14/300,0),IF(AND(E10="რთული ცოცვის კედელი",E41="Perfect Descent"),ROUNDDOWN(P14/300,0),IF(AND(E10="გასართობი კედელი",E41="Perfect Descent"),ROUNDDOWN(P14/120,0),0))),0) -> 0 | AA40: ც | AB40: =V40*Y40 -> 0 | AE40: ₾
E41: =IFERROR(IF(AND(E10="სწრაფი ცოცვის კედელი",P12>490),"Perfect Descent",IF(AND(E10="რთული ცოცვის კედელი",P16<100,P12>=490),"Perfect Descent",IF(AND(E10="გასართობი კედელი",P12>490),"Perfect Descent","აირჩიეთ მწარმოებელი"))),"აირჩიეთ მწარმოებელი") -> აირჩიეთ მწარმოებელი
C42: 8 | F42: ზედა დაცვის წერტილი | U42: =AB42-AB42*AA51% -> 0 | V42: {=IFERROR(VLOOKUP(E43,TRANSPOSE(List!B38:V39),2,0),0)} -> 0 | X42: ₾ | Y42: =IFERROR(IF(AND(E10="სწრაფი ცოცვის კედელი",P14>299),ROUNDDOWN(P14/300,0),IF(AND(E10="რთული ცოცვის კედელი",P12>490),ROUNDDOWN(P14/300,0),IF(AND(E10="გასართობი კედელი",P12>490),ROUNDDOWN(P14/120,0),0))),0) -> 0 | AA42: ც | AB42: =V42*Y42 -> 0 | AE42: ₾
E43: =IFERROR(IF(AND(E10="სწრაფი ცოცვის კედელი",P12>490),"CLIMB.GE",IF(AND(E10="რთული ცოცვის კედელი",P12>490),"CLIMB.GE",IF(AND(E10="გასართობი კედელი",P12>490),"CLIMB.GE","აირჩიეთ მწარმოებელი"))),"აირჩიეთ მწარმოებელი") -> აირჩიეთ მწარმოებელი
...

Sheet INVOICE
L1: =Currency!B2 -> 2.9934
N2: INVOICE TO | Y2: INVOICE
N4: L.L.C.
N5: C/C: | Y5: Invoice N: | AC5: =ინვოისი!AC5 -> 64/266
N6: Repr: | Y6: Issued | AC6: =TODAY() -> 45721
B7: "Georgian Climbing Development" L.L.C. | N7: Tel: | Y7: Valid | AC7: =TODAY()+14 -> 45735
M8: E-mail:
C10: N | E10: =IFERROR((IF(ინვოისი!E10=List!C4,List!C5,IF(ინვოისი!E10=List!D4,List!D5,IF(ინვოისი!E10=List!E4,List!E5,IF(ინვოისი!E10=List!F4,List!F5,IF(ინვოისი!E10=List!G4,List!G5,"")))))),"") -> Choose Climbing wall | O10: SIZES | V10: PRICE | Y10: QT | AB10: TOTAL
E11: Indoor | H11: 1 | I11: On Building | M11: Outdoor
C12: 1 | F12: Height | N12: =IFERROR(IF(H11=1,150,IF(H11=2,150*1.5,IF(H11=3,150*2,))),"") -> 150 | P12: =ინვოისი!P12 -> 0 | S12: cm
E13: Climbing Wall Maximum Height | O13: =P12/100 -> 0
C14: 2 | F14: Width | N14: =O14/100 -> 0 | P14: =ინვოისი!P14 -> 0 | S14: cm | U14: =AB14-AB14*AA51% -> 0 | V14: =ინვოისი!V14 -> 382 | X14: ₾ | Y14: =ინვოისი!Y14 -> 0 | AA14: m² | AB14: =V14*Y14 -> 0 | AE14: ₾
E15: Climbing Wall Maximum Width | O15: =P14/100 -> 0
C16: 3 | F16: Hangover | N16: =O16/100 -> 0 | O16: =ROUNDUP(IF(S16="⁰",(SQRT((O13*O13+O17*O17))*O15),IF(P16>1,(SQRT((O13*O13+O17*O17))*(O15)+(((O13)*(O15))*10/100)),(O13*O15))),0) -> 0 | P16: =ინვოისი!P16 -> 0 | S16: =IFERROR(IF(E10="Speed Climbing Wall","⁰","cm"),"") -> cm
E17: Climbing Wall Maximum Hangover | O17: =IFERROR(ROUNDUP(IF(E10="სწრაფი ცოცვის კედელი",RADIANS(P16)*(P12-20)/100+1,P16/100+1),2),"") -> 1
C18: N | F18: Safty Mat | O18: SIZES | V18: PRICE | Y18: QT | AB18: TOTAL
C20: 1 | F20: Height | N20: =O20/100 -> 0 | O20: =ინვოისი!O20 -> 0 | S20: cm
E21: Safty Mat Maximum Height
C22: 2 | F22: Width | N22: =O22/100 -> 0 | O22: =ინვოისი!O22 -> 0 | S22: cm | T22: =(IF(O20=0,0,(N22+2)*(N24+2)*10*L1)+((N20*N22*N24*28*10*L1)-(((N22+2)*(N24+2)*10*L1)+((N20*N22*N24*28*10*L1)))*0/100)) -> 0 | U22: =AB22-AB22*AA51% -> 0 | V22: =ინვოისი!V22 -> 0 | X22: ₾ | Y22: =ინვოისი!Y22 -> 0 | AA22: m³ | AB22: =ინვოისი!AB22 -> 0 | AE22: ₾
E23: Safty Mat Maximum Width
C24: 3 | F24: Depth | N24: =O24/100 -> 0 | O24: =ინვოისი!O24 -> 0 | S24: cm
E25: Safty Mat Maximum Depth
C26: N | F26: Equipment | V26: PRICE | Y26: QT | AB26: TOTAL
C28: 1 | F28: Holds | U28: =AB28-AB28*AA51% -> 0 | V28: =ინვოისი!V28 -> 0 | X28: ₾ | Y28: =ინვოისი!Y28 -> 0 | AA28: qt | AB28: =V28*Y28 -> 0 | AE28: ₾
E29: =IF(ინვოისი!E29="აირჩიეთ მწარმოებელი","Choose a Manufacturer",ინვოისი!E29) -> Choose a Manufacturer
C30: 2 | F30: Volumes | U30: =AB30-AB30*AA51% -> 0 | V30: =ინვოისი!V30 -> 0 | X30: ₾ | Y30: =ინვოისი!Y30 -> 0 | AA30: qt | AB30: =V30*Y30 -> 0 | AE30: ₾
E31: =IF(ინვოისი!E31="აირჩიეთ მწარმოებელი","Choose a Manufacturer",ინვოისი!E31) -> Choose a Manufacturer
C32: 3 | F32: Rope | U32: =AB32-AB32*AA51% -> 0 | V32: =ინვოისი!V32 -> 0 | X32: ₾ | Y32: =ინვოისი!Y32 -> 0 | AA32: m | AB32: =V32*Y32 -> 0 | AE32: ₾
E33: =IF(ინვოისი!E33="აირჩიეთ მწარმოებელი","Choose a Manufacturer",ინვოისი!E33) -> Choose a Manufacturer
C34: 4 | F34: Harness | U34: =AB34-AB34*AA51% -> 0 | V34: =ინვოისი!V34 -> 0 | X34: ₾ | Y34: =ინვოისი!Y34 -> 0 | AA34: qt | AB34: =V34*Y34 -> 0 | AE34: ₾
E35: =IF(ინვოისი!E35="აირჩიეთ მწარმოებელი","Choose a Manufacturer",ინვოისი!E35) -> Choose a Manufacturer
C36: 5 | F36: Carabiner | U36: =AB36-AB36*AA51% -> 0 | V36: =ინვოისი!V36 -> 0 | X36: ₾ | Y36: =ინვოისი!Y36 -> 0 | AA36: qt | AB36: =V36*Y36 -> 0 | AE36: ₾
E37: =IF(ინვოისი!E37="აირჩიეთ მწარმოებელი","Choose a Manufacturer",ინვოისი!E37) -> Choose a Manufacturer
C38: 6 | F38: Belay Device | U38: =AB38-AB38*AA51% -> 0 | V38: =ინვოისი!V38 -> 0 | X38: ₾ | Y38: =ინვოისი!Y38 -> 0 | AA38: qt | AB38: =V38*Y38 -> 0 | AE38: ₾
E39: =IF(ინვოისი!E39="აირჩიეთ მწარმოებელი","Choose a Manufacturer",ინვოისი!E39) -> Choose a Manufacturer
C40: 7 | F40: Auto Belay Device | U40: =AB40-AB40*AA51% -> 0 | V40: =ინვოისი!V40 -> 0 | X40: ₾ | Y40: =ინვოისი!Y40 -> 0 | AA40: qt | AB40: =V40*Y40 -> 0 | AE40: ₾
E41: =IF(ინვოისი!E41="აირჩიეთ მწარმოებელი","Choose a Manufacturer",ინვოისი!E41) -> Choose a Manufacturer
C42: 8 | F42: Top Safty Point | U42: =AB42-AB42*AA51% -> 0 | V42: =ინვოისი!V42 -> 0 | X42: ₾ | Y42: =ინვოისი!Y42 -> 0 | AA42: qt | AB42: =V42*Y42 -> 0 | AE42: ₾
E43: =IF(ინვოისი!E43="აირჩიეთ მწარმოებელი","Choose a Manufacturer",ინვოისი!E43) -> Choose a Manufacturer
C44: 9 | F44: Safty Point | U44: =AB44-AB44*AA51% -> 0 | V44: =ინვოისი!V44 -> 0 | X44: ₾ | Y44: =ინვოისი!Y44 -> 0 | AA44: qt | AB44: =V44*Y44 -> 0 | AE44: ₾
...

Sheet ხარჯთაღრიცხვა
A1: ხარჯთაღღიცხვა
A2: =ინვოისი!O4 -> 0
C4: სახარჯთაღრიცხვო ღირებულება: | D4: =L40 -> 0 | E4: ლარი
A6: N | B6: სამუშოს დასახელება | D6: განზომილება ერთეული | E6: რაოდენობა | F6: მასალები | H6: ხელფასი | J6: ტრანსპორტ | L6: საერთო ჯამი
F7: ერთ. ფასი | G7: ჯამი | H7: ერთ. ფასი | I7: ჯამი | J7: ერთ. ფასი | K7: ჯამი
A8: 1 | B8: 2 | D8: 3 | E8: 4 | F8: 5 | G8: 6 | H8: 7 | I8: 8 | J8: 9 | K8: 10 | L8: 11
A9: თავი I: საცოცი კედლები
A10: 1 | B10: =ინვოისი!E10 -> აირჩიე საცოცი კედელი | D10: მ² | E10: =ინვოისი!Y14 -> 0 | F10: =IF(E10>1,ინვოისი!V14,0) -> 0 | G10: =E10*F10 -> 0 | L10: =G10+I10+K10 -> 0
A11: თავი II: უსაფრთხოების ლეიბი
A12: 1 | B12: =ინვოისი!O20 -> 0 | C12: სმ სისქის უსაფრთხოების ლეიბი | D12: მ² | E12: =IFERROR((ინვოისი!N22*ინვოისი!N24),0) -> 0 | F12: =IFERROR((ინვოისი!AB22/ხარჯთაღრიცხვა!E12),"0") -> 0 | G12: =E12*F12 -> 0 | L12: =G12+I12+K12 -> 0
A13: თავი III: აღჭურვილობა
A14: 1 | B14: საჭიდები (IFSC მიმწოდებელი) | D14: ც | E14: =ინვოისი!Y28 -> 0 | F14: =ინვოისი!V28 -> 0 | G14: =E14*F14 -> 0 | L14: =G14+I14+K14 -> 0
A15: 2 | B15: რელიეფი (IFSC მიმწოდებელი) | D15: ც | E15: =ინვოისი!Y30 -> 0 | F15: =ინვოისი!V30 -> 0 | G15: =E15*F15 -> 0 | L15: =G15+I15+K15 -> 0
A16: 3 | B16: თოკი 9.8მმ EN 892 / CE 1019 | D16: მ | E16: =ინვოისი!Y32 -> 0 | F16: =ინვოისი!V32 -> 0 | G16: =E16*F16 -> 0 | L16: =G16+I16+K16 -> 0
A17: 4 | B17: უსაფრთხოების ქამარი EN 12277 / CE 1019 | D17: ც | E17: =ინვოისი!Y34 -> 0 | F17: =ინვოისი!V34 -> 0 | G17: =E17*F17 -> 0 | L17: =G17+I17+K17 -> 0
A18: 5 | B18: კარაბინი CE EN 12275 | D18: ც | E18: =ინვოისი!Y36 -> 0 | F18: =ინვოისი!V36 -> 0 | G18: =E18*F18 -> 0 | L18: =G18+I18+K18 -> 0
A19: 6 | B19: მექანიკური დამშვები მექანიზმი CE EN 15151-1, UIAA | D19: ც | E19: =ინვოისი!Y38 -> 0 | F19: =ინვოისი!V38 -> 0 | G19: =E19*F19 -> 0 | L19: =G19+I19+K19 -> 0
A20: 7 | B20: ავტომატური დამშვები 16.1მ (IFSC სერტიფიცირებული) | D20: ც | E20: =ინვოისი!Y40 -> 0 | F20: =ინვოისი!V40 -> 0 | G20: =E20*F20 -> 0 | L20: =G20+I20+K20 -> 0
A21: 8 | B21: ზედა დაცვის წერტილი | D21: ც | E21: =ინვოისი!Y42 -> 0 | F21: =ინვოისი!V42 -> 0 | G21: =E21*F21 -> 0 | L21: =G21+I21+K21 -> 0
A22: 9 | B22: დაცვის წეტილი (აწიაშკა) CE EN 12275 type B, UIAA | D22: ც | E22: =ინვოისი!Y44 -> 0 | F22: =ინვოისი!V44 -> 0 | G22: =E22*F22 -> 0 | L22: =G22+I22+K22 -> 0
A23: 10 | B23: ქრონომეტრაჟი | D23: ც | E23: =ინვოისი!Y46 -> 0 | F23: =ინვოისი!V46 -> 0 | G23: =E23*F23 -> 0 | L23: =G23+I23+K23 -> 0
A24: თავი IV: აღჭურვილობის მონტაჟი
A25: 1 | B25: =IFERROR(IF(B10="რთული ცოცვის კედელი","რთული ცოცვის ბილიკების აწყობა",IF(B10="სწრაფი ცოცვის კედელი","სწრაფი ცოცვის ბილიკების აწყობა",IF(B10="ბოლდერინგი","ბოლდერინგის ბილიკების აწყობა","ბილიკების აწყობა"))),"ბილიკების აწყობა") -> ბილიკების აწყობა | D25: ც | E25: =IFERROR(IF(B25="რთული ცოცვის ბილიკების აწყობა",E21,IF(B25="სწრაფი ცოცვის ბილიკების აწყობა",E21,IF(B25="ბოლდერინგის ბილიკების აწყობა",ინვოისი!P14/300,))),"კალკულატორი!F23/200") -> 0 | H25: =IFERROR(IF(B25="რთული ცოცვის ბილიკების აწყობა",1290,IF(B25="სწრაფი ცოცვის ბილიკების აწყობა",1290,IF(B25="ბოლდერინგის ბილიკების აწყობა",645,))),"645") -> 0 | I25: =E25*H25 -> 0 | L25: =G25+I25+K25 -> 0
A26: 2 | B26: ქრონომეტრაჟის მონტაჟი | D26: ც | E26: =ინვოისი!Y46 -> 0 | H26: =IFERROR(IF(B25="რთული ცოცვის ბილიკების აწყობა",ინვოისი!V46,IF(B25="სწრაფი ცოცვის ბილიკების აწყობა",ინვოისი!V46,IF(B25="ბოლდერინგის ბილიკების აწყობა",ინვოისი!V46,))),"0") -> 0 | I26: =E26*H26 -> 0 | L26: =G26+I26+K26 -> 0
A27: ჯამი
B28: ჯამი | L28: =L10+L12+L14+L15+L16+L17+L18+L19+L20+L21+L22+L23+L25+L26 -> 0
B29: ტრაპორტირების ხარჯები | D29: 0.05 | L29: =ROUNDUP((L10+L12+L14+L15+L16+L17+L18+L19+L20+L21+L22+L23)*D29,0) -> 0
B30: ჯამი | L30: =L28+L29 -> 0
B31: ზედნადები ხარჯი | D31: 0.1 | L31: =IF(AND(OR(E10=0,E14>0), E10>0),ROUNDUP(L30*D31,0),0) -> 0
B32: ჯამი | L32: =L30+L31 -> 0
B33: ფირმის სარგებელი | D33: 0.08 | L33: =IF(AND(OR(E10=0,E14>0), E10>0),ROUNDUP(L32*D33,0),0) -> 0
B34: ჯამი | L34: =L32+L33 -> 0
B35: გაუთვალისწინებელი ხარჯი | D35: 0.05 | L35: =IF(E10=0,0,ROUNDUP(L34*D35,0)) -> 0
B36: ჯამი | L36: =L34+L35 -> 0
B37: საპენსიო დანარიცხი | D37: 0.02 | L37: =ROUNDUP((L25+L26)*D37,0) -> 0
B38: ჯამი | L38: =L36+L37 -> 0
B39: დღგ | D39: 0.18 | L39: =ROUNDUP(L38*D39,0) -> 0
B40: სულ ჯამი | L40: =L38+L39 -> 0

Sheet CUR
A2: Column1 | B2: Column2 | C2: Column3
A3: 2.9234 | C3: paid

Sheet Currency
B2: {=Table_6[Column1]+0.07} -> 2.9934 | F2: =F9*17 -> 777267.69 | G2: =F2*F2/17 -> 3.5537945e+10
F3: =NOW() -> 45721.629 | G3: =NOW()*NOW()/217 -> 9633490.2
G4: =(TODAY())*(TODAY())/217 -> 9633225.1
F5: =ROUNDUP(F10-40925941,0) -> 883407 | G5: =F9*(F9/217)-9458839 -> 174651.15 | H5: 9458839
A6: კვ ფასი | B6: =ROUNDUP(IF(ინვოისი!P16>1,(150+50)*((ინვოისი!H11+1)/2)*ინვოისი!O16/ინვოისი!Y14*ინვოისი!M3,150*ინვოისი!M3*(ინვოისი!H11+1)/2),0) -> 450 | F6: =F9+0.000000000001 -> 45721.629 | G6: =G3-G4 -> 265.07993 | H6: =ROUNDUP(G6,0) -> 266
F7: =1+F3 -> 45722.629 | G7: =ROUNDUP(G10-G16,0) -> 304296
F8: =F9+0.123456789 -> 45721.753 | G8: =G6*57846 -> 15333814
B9: {=(IF(E10="ბოლდერინგი",(OR(AA51=List!X1:X31)),(IF(E10="სწრაფი ცოცვის კედელი",(OR(AA51=List!X1:X31)),(IF(E10="რთული ცოცვის კედელი",(OR(AA51=List!X1:X31)),(IF(E10="გასართობი კედელი",(OR(AA51=List!X1:X31)),0))))))))} -> 0 | F9: =(F3) -> 45721.629 | G9: =G8/2 -> 7666906.9
F10: =F9*(F9/50) -> 41809347 | G10: =ROUNDUP(F10-40941543,0) -> 867805
F12: =NOW()-TODAY() -> 0.62905394
F13: =F12*1000 -> 629.05394 | H13: =CONCATENATE(I18,"/",H6) -> 64/266
F14: =ROUNDUP(F13-571,0) -> 59
F16: =F9*(F9/77) -> 27148927 | G16: =ROUNDUP(F16-26585418,0) -> 563509
H17: =IF(G18>500,F18-500,0) -> 9632990.2
F18: =F9*(F9/217) -> 9633490.2 | G18: =ROUNDUP(F18-9458810,0) -> 174681 | H18: =TODAY() -> 45721 | I18: =H18-DATE(YEAR(H18),1,0) -> 64
F19: =F9*(F9/117) -> 17867242 | G19: =ROUNDUP(F19-17496385,0) -> 370858
F20: =ROUNDUP(G10-G16,0) -> 304296 | G20: =F20 -> 304296
F21: =F9*(F9/50) -> 41809347 | G21: =ROUNDUP(F10-40941543,0) -> 867805

Sheet List
A1: 1 | C1: კონდიცია | X1: 0
D2: დახურული შენობა ↓ | E2: გარე სივრცე (კედელზე) | F2: გარე სივრცე (ცალკე მდგომი) | X2: 1
A3: 2 | C3: კედელი | X3: 2
C4: აირჩიე საცოცი კედელი | D4: სწრაფი ცოცვის კედელი | E4: რთული ცოცვის კედელი | F4: ბოლდერინგი | G4: გასართობი კედელი | X4: 3
C5: Choose Climbing wall | D5: Speed Climbing Wall | E5: Lead Climbing Wall | F5: Bouldering | G5: Entertaining Wall | X5: 4
A6: 3 | C6: პირი | X6: 5
C7: შ.პ.ს. | D7: ა.ა.ი.პ. | E7: ს.ს. | F7: ი.მ. | G7: ს.ს.ი.პ. | H7: ფ.პ. | X7: 6
C8: L.L.C. | D8: N.N.L.E. | E8: J.S.C. | F8: I.E. | G8: L.E.P.L. | H8: F.P. | X8: 7
A9: 4 | C9: HOLDS | X9: 8
B10: აირჩიეთ მწარმოებელი | C10: Volx | D10: EP Climbing | E10: Cheeta | F10: CLIMB.GE | G10: Makak | H10: HRT | I10: ESCAPE | J10: Agripp | K10: Blue Pill | L10: eXpression Holds | M10: Squadra | N10: Xcult | O10: Rockcity | P10: Grizzly | Q10: Kilter | R10: Flathold | S10: Blocz | T10: 360 Holds | U10: Volx SPEED 10.5 | V10: Volx SPEED 15 | X10: 9
C11: =ROUNDUP(C12*ინვოისი!M3,0) -> 30 | D11: =ROUNDUP(D12*ინვოისი!M3,0) -> 60 | E11: =ROUNDUP(E12*ინვოისი!M3,0) -> 60 | F11: =ROUNDUP(F12*ინვოისი!M3,0) -> 24 | G11: =ROUNDUP(G12*ინვოისი!M3,0) -> 27 | H11: =ROUNDUP(H12*ინვოისი!M3,0) -> 45 | I11: =ROUNDUP(I12*ინვოისი!M3,0) -> 45 | J11: =ROUNDUP(J12*ინვოისი!M3,0) -> 60 | K11: =ROUNDUP(K12*ინვოისი!M3,0) -> 60 | L11: =ROUNDUP(L12*ინვოისი!M3,0) -> 60 | M11: =ROUNDUP(M12*ინვოისი!M3,0) -> 60 | N11: =ROUNDUP(N12*ინვოისი!M3,0) -> 60 | O11: =ROUNDUP(O12*ინვოისი!M3,0) -> 60 | P11: =ROUNDUP(P12*ინვოისი!M3,0) -> 60 | Q11: =ROUNDUP(Q12*ინვოისი!M3,0) -> 60 | R11: =ROUNDUP(R12*ინვოისი!M3,0) -> 60 | S11: =ROUNDUP(S12*ინვოისი!M3,0) -> 60 | T11: =ROUNDUP(T12*ინვოისი!M3,0) -> 60 | U11: =ROUNDUP(U12*ინვოისი!M3,0) -> 5799 | V11: =ROUNDUP(V12*ინვოისი!M3,0) -> 6667 | X11: 10
C12: =IFERROR(ROUNDUP(IF(ინვოისი!$AA$51>0,10-10*ინვოისი!$AA$51/100,10),0),10) -> 10 | D12: =IFERROR(ROUNDUP(IF(ინვოისი!$AA$51>0,20-20*ინვოისი!$AA$51/100,20),0),20) -> 20 | E12: =IFERROR(ROUNDUP(IF(ინვოისი!$AA$51>0,20-20*ინვოისი!$AA$51/100,20),0),20) -> 20 | F12: =IFERROR(ROUNDUP(IF(ინვოისი!$AA$51>0,8-8*ინვოისი!$AA$51/100,8),0),8) -> 8 | G12: =IFERROR(ROUNDUP(IF(ინვოისი!$AA$51>0,9-9*ინვოისი!$AA$51/100,9),0),9) -> 9 | H12: =IFERROR(ROUNDUP(IF(ინვოისი!$AA$51>0,15-15*ინვოისი!$AA$51/100,15),0),15) -> 15 | I12: =IFERROR(ROUNDUP(IF(ინვოისი!$AA$51>0,15-15*ინვოისი!$AA$51/100,15),0),15) -> 15 | J12: =IFERROR(ROUNDUP(IF(ინვოისი!$AA$51>0,20-20*ინვოისი!$AA$51/100,20),0),20) -> 20 | K12: =IFERROR(ROUNDUP(IF(ინვოისი!$AA$51>0,20-20*ინვოისი!$AA$51/100,20),0),20) -> 20 | L12: =IFERROR(ROUNDUP(IF(ინვოისი!$AA$51>0,20-20*ინვოისი!$AA$51/100,20),0),20) -> 20 | M12: =IFERROR(ROUNDUP(IF(ინვოისი!$AA$51>0,20-20*ინვოისი!$AA$51/100,20),0),20) -> 20 | N12: =IFERROR(ROUNDUP(IF(ინვოისი!$AA$51>0,20-20*ინვოისი!$AA$51/100,20),0),20) -> 20 | O12: =IFERROR(ROUNDUP(IF(ინვოისი!$AA$51>0,20-20*ინვოისი!$AA$51/100,20),0),20) -> 20 | P12: =IFERROR(ROUNDUP(IF(ინვოისი!$AA$51>0,20-20*ინვოისი!$AA$51/100,20),0),20) -> 20 | Q12: =IFERROR(ROUNDUP(IF(ინვოისი!$AA$51>0,20-20*ინვოისი!$AA$51/100,20),0),20) -> 20 | ... T12: =IFERROR(ROUNDUP(IF(ინვოისი!$AA$51>0,20-20*ინვოისი!$AA$51/100,20),0),20) -> 20 | U12: =IFERROR(ROUNDUP(IF(ინვოისი!$AA$51>0,1937-1937*ინვოისი!$AA$51/100,1937),0),1937) -> 1937 | V12: =IFERROR(ROUNDUP(IF(ინვოისი!$AA$51>0,2227-2227*ინვოისი!$AA$51/100,2227),0),2227) -> 2227 | X12: 11
A13: 5 | C13: VOLUMES | X13: 12
B14: აირჩიეთ მწარმოებელი | C14: Volx | D14: EP Climbing | E14: Cheeta | F14: Illusion | G14: HRT | H14: Agripp | I14: Blue Pill | J14: eXpression Holds | K14: Squadra | L14: Xcult | M14: Rockcity | N14: Grizzly | O14: Kilter | P14: Flathold | Q14: Blocz | R14: 360 Holds | S14: Vertex | X14: 13
C15: =ROUNDUP(C16*ინვოისი!M3,0) -> 749 | D15: =ROUNDUP(D16*ინვოისი!M3,0) -> 1348 | E15: =ROUNDUP(E16*ინვოისი!M3,0) -> 1348 | F15: =ROUNDUP(F16*ინვოისი!M3,0) -> 1048 | G15: =ROUNDUP(G16*ინვოისი!M3,0) -> 1048 | H15: =ROUNDUP(H16*ინვოისი!M3,0) -> 1348 | I15: =ROUNDUP(I16*ინვოისი!M3,0) -> 1348 | J15: =ROUNDUP(J16*ინვოისი!M3,0) -> 1348 | K15: =ROUNDUP(K16*ინვოისი!M3,0) -> 1348 | L15: =ROUNDUP(L16*ინვოისი!M3,0) -> 1348 | M15: =ROUNDUP(M16*ინვოისი!M3,0) -> 1348 | N15: =ROUNDUP(N16*ინვოისი!M3,0) -> 1348 | O15: =ROUNDUP(O16*ინვოისი!M3,0) -> 1348 | P15: =ROUNDUP(P16*ინვოისი!M3,0) -> 1348 | Q15: =ROUNDUP(Q16*ინვოისი!M3,0) -> 1348 | R15: =ROUNDUP(R16*ინვოისი!M3,0) -> 1348 | S15: =ROUNDUP(S16*ინვოისი!M3,0) -> 1348 | X15: 14
C16: =IFERROR(ROUNDUP(IF(ინვოისი!$AA$51>0,250-250*ინვოისი!$AA$51/100,250),0),250) -> 250 | D16: =IFERROR(ROUNDUP(IF(ინვოისი!$AA$51>0,450-450*ინვოისი!$AA$51/100,450),0),450) -> 450 | E16: =IFERROR(ROUNDUP(IF(ინვოისი!$AA$51>0,450-450*ინვოისი!$AA$51/100,450),0),450) -> 450 | F16: =IFERROR(ROUNDUP(IF(ინვოისი!$AA$51>0,350-350*ინვოისი!$AA$51/100,350),0),350) -> 350 | G16: =IFERROR(ROUNDUP(IF(ინვოისი!$AA$51>0,350-350*ინვოისი!$AA$51/100,350),0),350) -> 350 | H16: =IFERROR(ROUNDUP(IF(ინვოისი!$AA$51>0,450-450*ინვოისი!$AA$51/100,450),0),450) -> 450 | I16: =IFERROR(ROUNDUP(IF(ინვოისი!$AA$51>0,450-450*ინვოისი!$AA$51/100,450),0),450) -> 450 | J16: =IFERROR(ROUNDUP(IF(ინვოისი!$AA$51>0,450-450*ინვოისი!$AA$51/100,450),0),450) -> 450 | K16: =IFERROR(ROUNDUP(IF(ინვოისი!$AA$51>0,450-450*ინვოისი!$AA$51/100,450),0),450) -> 450 | L16: =IFERROR(ROUNDUP(IF(ინვოისი!$AA$51>0,450-450*ინვოისი!$AA$51/100,450),0),450) -> 450 | M16: =IFERROR(ROUNDUP(IF(ინვოისი!$AA$51>0,450-450*ინვოისი!$AA$51/100,450),0),450) -> 450 | N16: =IFERROR(ROUNDUP(IF(ინვოისი!$AA$51>0,450-450*ინვოისი!$AA$51/100,450),0),450) -> 450 | O16: =IFERROR(ROUNDUP(IF(ინვოისი!$AA$51>0,450-450*ინვოისი!$AA$51/100,450),0),450) -> 450 | ... S16: =IFERROR(ROUNDUP(IF(ინვოისი!$AA$51>0,450-450*ინვოისი!$AA$51/100,450),0),450) -> 450 | X16: 15
A17: 6 | C17: ROPE | X17: 16
B18: აირჩიეთ მწარმოებელი | C18: TENDON | D18: TENDON (OUTDOOR) | E18: SINGING ROCK | X18: 17
C19: =ROUNDUP(C20*ინვოისი!M3,0) -> 12 | D19: =ROUNDUP(D20*ინვოისი!M3,0) -> 15 | E19: =ROUNDUP(E20*ინვოისი!M3,0) -> 18 | X19: 18
C20: =IFERROR(ROUNDUP(IF(ინვოისი!$AA$51>0,4-4*ინვოისი!$AA$51/100,4),0),4) -> 4 | D20: =IFERROR(ROUNDUP(IF(ინვოისი!$AA$51>0,5-5*ინვოისი!$AA$51/100,5),0),5) -> 5 | E20: =IFERROR(ROUNDUP(IF(ინვოისი!$AA$51>0,6-6*ინვოისი!$AA$51/100,6),0),6) -> 6 | X20: 19
A21: 7 | C21: HARNESS | X21: 20
B22: აირჩიეთ მწარმოებელი | C22: PETZL | D22: SINGING ROCK | E22: TENDON | X22: 21
C23: =ROUNDUP(C24*ინვოისი!M3,0) -> 165 | D23: =ROUNDUP(D24*ინვოისი!M3,0) -> 201 | E23: =ROUNDUP(E24*ინვოისი!M3,0) -> 111 | X23: 22
C24: =IFERROR(ROUNDUP(IF(ინვოისი!$AA$51>0,55-55*ინვოისი!$AA$51/100,55),0),55) -> 55 | D24: =IFERROR(ROUNDUP(IF(ინვოისი!$AA$51>0,67-67*ინვოისი!$AA$51/100,67),0),67) -> 67 | E24: =IFERROR(ROUNDUP(IF(ინვოისი!$AA$51>0,37-37*ინვოისი!$AA$51/100,37),0),37) -> 37 | X24: 23
A25: 8 | C25: CARABINER | X25: 24
B26: აირჩიეთ მწარმოებელი | C26: PETZL | D26: SINGING ROCK | E26: TENDON | X26: 25
C27: =ROUNDUP(C28*ინვოისი!M3,0) -> 57 | D27: =ROUNDUP(D28*ინვოისი!M3,0) -> 75 | E27: =ROUNDUP(E28*ინვოისი!M3,0) -> 60 | X27: 26
C28: =IFERROR(ROUNDUP(IF(ინვოისი!$AA$51>0,19-19*ინვოისი!$AA$51/100,19),0),19) -> 19 | D28: =IFERROR(ROUNDUP(IF(ინვოისი!$AA$51>0,25-25*ინვოისი!$AA$51/100,25),0),25) -> 25 | E28: =IFERROR(ROUNDUP(IF(ინვოისი!$AA$51>0,20-20*ინვოისი!$AA$51/100,20),0),20) -> 20 | X28: 27
A29: 9 | C29: Belay Device | X29: 28
B30: აირჩიეთ მწარმოებელი | C30: PETZL | X30: 29
C31: =ROUNDUP(C32*ინვოისი!M3,0) -> 276 | X31: 30
C32: =IFERROR(ROUNDUP(IF(ინვოისი!$AA$51>0,92-92*ინვოისი!$AA$51/100,92),0),92) -> 92 | X32: 31
A33: 10 | C33: Auto Belay | X33: 32
B34: აირჩიეთ მწარმოებელი | C34: Perfect Descent | X34: 33
C35: =ROUNDUP(C36*ინვოისი!M3,0) -> 8083 | X35: 34
C36: =IFERROR(ROUNDUP(IF(ინვოისი!$AA$51>0,2700-2700*ინვოისი!$AA$51/100,2700),0),2700) -> 2700 | X36: 35
A37: 11 | C37: TOP SAFTY POINT | X37: 36
B38: აირჩიეთ მწარმოებელი | C38: CLIMB.GE | D38: Rock Empire | X38: 37
C39: =ROUNDUP(C40*ინვოისი!M3,0) -> 830 | D39: =ROUNDUP(D40*ინვოისი!M3,0) -> 321 | X39: 38
C40: =IFERROR(ROUNDUP(IF(ინვოისი!$AA$51>0,277-277*ინვოისი!$AA$51/100,277),0),277) -> 277 | D40: =IFERROR(ROUNDUP(IF(ინვოისი!$AA$51>0,107-107*ინვოისი!$AA$51/100,107),0),107) -> 107 | X40: 39
...
